BEGIN:VCALENDAR
VERSION:2.0
PRODID:-//jEvents 2.0 for Joomla//EN
CALSCALE:GREGORIAN
METHOD:PUBLISH
BEGIN:VTIMEZONE
TZID:Europe/Berlin
BEGIN:STANDARD
DTSTART:20250319T190000
RDATE:20250330T030000
TZOFFSETFROM:+0200
TZOFFSETTO:+0100
TZNAME:Europe/Berlin CET
END:STANDARD
BEGIN:STANDARD
DTSTART:20251026T020000
RDATE:20260329T030000
TZOFFSETFROM:+0200
TZOFFSETTO:+0100
TZNAME:Europe/Berlin CET
END:STANDARD
BEGIN:STANDARD
DTSTART:20261025T020000
RDATE:20270328T030000
TZOFFSETFROM:+0200
TZOFFSETTO:+0100
TZNAME:Europe/Berlin CET
END:STANDARD
BEGIN:STANDARD
DTSTART:20271031T020000
RDATE:20280326T030000
TZOFFSETFROM:+0200
TZOFFSETTO:+0100
TZNAME:Europe/Berlin CET
END:STANDARD
BEGIN:STANDARD
DTSTART:20281029T020000
RDATE:20290325T030000
TZOFFSETFROM:+0200
TZOFFSETTO:+0100
TZNAME:Europe/Berlin CET
END:STANDARD
BEGIN:DAYLIGHT
DTSTART:20250330T030000
RDATE:20251026T020000
TZOFFSETFROM:+0100
TZOFFSETTO:+0200
TZNAME:Europe/Berlin CEST
END:DAYLIGHT
BEGIN:DAYLIGHT
DTSTART:20260329T030000
RDATE:20261025T020000
TZOFFSETFROM:+0100
TZOFFSETTO:+0200
TZNAME:Europe/Berlin CEST
END:DAYLIGHT
BEGIN:DAYLIGHT
DTSTART:20270328T030000
RDATE:20271031T020000
TZOFFSETFROM:+0100
TZOFFSETTO:+0200
TZNAME:Europe/Berlin CEST
END:DAYLIGHT
BEGIN:DAYLIGHT
DTSTART:20280326T030000
RDATE:20281029T020000
TZOFFSETFROM:+0100
TZOFFSETTO:+0200
TZNAME:Europe/Berlin CEST
END:DAYLIGHT
END:VTIMEZONE
BEGIN:VEVENT
UID:268c4d1916be021bdea8bec09184e6f9
CATEGORIES:Konzert / Auftritt
CREATED:20260302T220440
SUMMARY:Konzert „Junge Talente“
LOCATION:Bürgerhaus
DESCRIPTION:<!-- START: Articles Anywhere --><p>Mit dem beginnenden Frühjahr lädt die M
 usikschule traditionell zu den Junge Talente-Konzerten ins Bürgerhaus ein. 
 Die diesjährigen Konzerte finden am Freitag, dem 20. März um 17 und 19 Uhr 
 statt.</p><p>Dargeboten werden eine bunte Mischung aus Solo- und Ensemblebe
 iträgen, Klassik, Pop, Jazz und Rock. Wer die gesamte instrumentale Vielfal
 t der Musikschule erleben möchte, wird hier fündig: Zu erleben sind die Ins
 trumente Blockflöte, Querflöte, Klarinette, Saxophon, Trompete, Euphonium, 
 Posaune, Tuba, Cello, Geige, Gitarre, Akkordeon, Klavier, E-Gitarre und Sch
 lagzeug, sowie das Streichensemble „Bogenbande“, das Gitarrenensemble, das 
 Schlagzeugensemble „Drum Talk“ und die Jugend-Jazz&Pop-Band „CMT“.</p><p>Di
 e Musikschule der Stadt Telgte lädt alle Interessierten herzlich zu diesen 
 abwechslungsreichen und kurzweiligen Konzerten ein. Der Eintritt ist frei.<
 /p><p><div class="phocadownloadfile32"><a href="/index.php/component/phocad
 ownload/category/21-junge-talente?download=271:plakat-junge-talente-2026" t
 arget="_self" >Plakat Junge Talente 2026</a></div></p>
<!-- END: Articles A
 nywhere -->
X-ALT-DESC;FMTTYPE=text/html:<!-- START: Articles Anywhere --><p>Mit dem beginnenden Frühjahr lädt die M
 usikschule traditionell zu den Junge Talente-Konzerten ins Bürgerhaus ein. 
 Die diesjährigen Konzerte finden am Freitag, dem 20. März um 17 und 19 Uhr 
 statt.</p><p>Dargeboten werden eine bunte Mischung aus Solo- und Ensemblebe
 iträgen, Klassik, Pop, Jazz und Rock. Wer die gesamte instrumentale Vielfal
 t der Musikschule erleben möchte, wird hier fündig: Zu erleben sind die Ins
 trumente Blockflöte, Querflöte, Klarinette, Saxophon, Trompete, Euphonium, 
 Posaune, Tuba, Cello, Geige, Gitarre, Akkordeon, Klavier, E-Gitarre und Sch
 lagzeug, sowie das Streichensemble „Bogenbande“, das Gitarrenensemble, das 
 Schlagzeugensemble „Drum Talk“ und die Jugend-Jazz&Pop-Band „CMT“.</p><p>Di
 e Musikschule der Stadt Telgte lädt alle Interessierten herzlich zu diesen 
 abwechslungsreichen und kurzweiligen Konzerten ein. Der Eintritt ist frei.<
 /p><p><div class="phocadownloadfile32"><a href="https://fidelio-telgte.de/i
 ndex.php/component/phocadownload/category/21-junge-talente?download=271:pla
 kat-junge-talente-2026" target="_self" >Plakat Junge Talente 2026</a></div>
 </p>
<!-- END: Articles Anywhere -->
DTSTAMP:20260420T091625
DTSTART;TZID=Europe/Berlin:20260320T190000
SEQUENCE:0
TRANSP:OPAQUE
END:VEVENT
END:VCALENDAR